BEGIN:VCALENDAR
VERSION:2.0
PRODID:-//eventon.com NONSGML v1.0//EN
BEGIN:VEVENT
UID:69e54cb2df25a
DTSTAMP:20260419T214418
DTSTART:20201113T190000Z
DTEND:20201114T233000Z
LOCATION:Cluj-Napoca 
SUMMARY:Cluj Blues Fest 2020
DESCRIPTION: Editia 2020\,  a șasea\,  a Cluj Blues Fest
END:VEVENT
END:VCALENDAR