BEGIN:VCALENDAR
VERSION:2.0
PRODID:-//eventon.com NONSGML v1.0//EN
BEGIN:VEVENT
UID:69ebc648c7398
DTSTAMP:20260424T193640
DTSTART:20191024T000000Z
DTEND:20191024T235900Z
LOCATION:
SUMMARY:Concert TAXI la Cluj: Primii 20 de Ani
DESCRIPTION: Trupa Taxi te așteaptă la concertul său aniversar care marchează 20 de ani de carieră.TAXI au c&acirc;ntat nenumărate melodii de dragoste sau au criticat fără menajamente starea sociala și situația politică a Rom&acirc;niei &icirc;n c&acirc;ntece cum ar fi"Cele două cuvinte"\,  "Aici sunt banii dumneavoastră"\,  "Ai &icirc;nchis marea in ochi"\,  "Mi-e[..]
END:VEVENT
END:VCALENDAR